Back to Multiple platform build/check report for BioC 3.16
ABCDEFGHIJKL[M]NOPQRSTUVWXYZ

This page was generated on 2022-06-24 11:06:45 -0400 (Fri, 24 Jun 2022).

HostnameOSArch (*)R versionInstalled pkgs
nebbiolo2Linux (Ubuntu 20.04.4 LTS)x86_644.2.0 Patched (2022-06-02 r82447) -- "Vigorous Calisthenics" 4331
palomino4Windows Server 2022 Datacenterx644.2.0 Patched (2022-06-02 r82447 ucrt) -- "Vigorous Calisthenics" 4136
lconwaymacOS 12.2.1 Montereyx86_644.2.0 Patched (2022-05-29 r82424) -- "Vigorous Calisthenics" 4147
Click on any hostname to see more info about the system (e.g. compilers)      (*) as reported by 'uname -p', except on Windows and Mac OS X

BUILD BIN results for metapone on palomino4


To the developers/maintainers of the metapone package:
- Please allow up to 24 hours (and sometimes 48 hours) for your latest push to git@git.bioconductor.org:packages/metapone.git to
reflect on this report. See How and When does the builder pull? When will my changes propagate? for more information.
- Make sure to use the following settings in order to reproduce any error or warning you see on this page.

raw results

Package 1122/2118HostnameOS / ArchINSTALLBUILDCHECKBUILD BIN
metapone 1.3.2  (landing page)
Tianwei Yu
Snapshot Date: 2022-06-23 14:00:04 -0400 (Thu, 23 Jun 2022)
git_url: https://git.bioconductor.org/packages/metapone
git_branch: master
git_last_commit: 3d98c60
git_last_commit_date: 2022-06-03 21:25:15 -0400 (Fri, 03 Jun 2022)
nebbiolo2Linux (Ubuntu 20.04.4 LTS) / x86_64  OK    OK    OK  UNNEEDED, same version is already published
palomino4Windows Server 2022 Datacenter / x64  OK    OK    OK    OK  UNNEEDED, same version is already published
lconwaymacOS 12.2.1 Monterey / x86_64  OK    OK    OK    OK  UNNEEDED, same version is already published

Summary

Package: metapone
Version: 1.3.2
Command: rm -rf metapone.buildbin-libdir && mkdir metapone.buildbin-libdir && F:\biocbuild\bbs-3.16-bioc\R\bin\R.exe CMD INSTALL --merge-multiarch --build --library=metapone.buildbin-libdir metapone_1.3.2.tar.gz
StartedAt: 2022-06-24 07:51:44 -0400 (Fri, 24 Jun 2022)
EndedAt: 2022-06-24 07:52:06 -0400 (Fri, 24 Jun 2022)
EllapsedTime: 21.8 seconds
RetCode: 0
Status:   OK  
PackageFile: metapone_1.3.2.zip
PackageFileSize: 3.751 MiB

Command output

##############################################################################
##############################################################################
###
### Running command:
###
###   rm -rf metapone.buildbin-libdir && mkdir metapone.buildbin-libdir && F:\biocbuild\bbs-3.16-bioc\R\bin\R.exe CMD INSTALL --merge-multiarch --build --library=metapone.buildbin-libdir metapone_1.3.2.tar.gz
###
##############################################################################
##############################################################################


only one architecture so ignoring '--merge-multiarch'
* installing *source* package 'metapone' ...
** using staged installation
** R
** data
** inst
** byte-compile and prepare package for lazy loading
Creating a new generic function for 'ftable' in package 'metapone'
** help
*** installing help indices
** building package indices
** installing vignettes
** testing if installed package can be loaded from temporary location
** testing if installed package can be loaded from final location
** testing if installed package keeps a record of temporary installation path
* MD5 sums
packaged installation of 'metapone' as metapone_1.3.2.zip
* DONE (metapone)