Index of /checkResults/devel/bioc-LATEST/metagenomeSeq/raw-results/palomino4

[ICO]NameLast modifiedSizeDescription

[DIR]Parent Directory  -  
[TXT]buildbin-out.txt04-Oct-2023 00:38 1.3K 
[   ]buildbin-summary.dcf04-Oct-2023 00:38 551  
[TXT]buildsrc-out.txt04-Oct-2023 00:38 929  
[   ]buildsrc-summary.dcf04-Oct-2023 00:38 476  
[TXT]checksrc-out.txt04-Oct-2023 00:38 4.4K 
[   ]checksrc-summary.dcf04-Oct-2023 00:38 475  
[TXT]install-out.txt04-Oct-2023 00:38 1.2K 
[   ]install-summary.dcf04-Oct-2023 00:38 280