![]() | Name | Last modified | Size | Description |
---|---|---|---|---|
![]() | Parent Directory | - | ||
![]() | buildbin-out.txt | 30-Sep-2023 01:05 | 1.4K | |
![]() | buildbin-summary.dcf | 30-Sep-2023 01:05 | 566 | |
![]() | buildsrc-out.txt | 30-Sep-2023 01:05 | 903 | |
![]() | buildsrc-summary.dcf | 30-Sep-2023 01:05 | 445 | |
![]() | checksrc-out.txt | 30-Sep-2023 01:05 | 4.4K | |
![]() | checksrc-summary.dcf | 30-Sep-2023 01:05 | 472 | |
![]() | install-out.txt | 30-Sep-2023 01:05 | 1.2K | |
![]() | install-summary.dcf | 30-Sep-2023 01:05 | 281 | |