Index of /checkResults/devel/bioc-LATEST/metabomxtr/raw-results/palomino4

[ICO]NameLast modifiedSizeDescription

[DIR]Parent Directory  -  
[TXT]buildbin-out.txt07-Jul-2022 00:07 1.2K 
[   ]buildbin-summary.dcf07-Jul-2022 00:07 551  
[TXT]buildsrc-out.txt07-Jul-2022 00:07 914  
[   ]buildsrc-summary.dcf07-Jul-2022 00:07 464  
[TXT]checksrc-out.txt07-Jul-2022 00:07 3.4K 
[   ]checksrc-summary.dcf07-Jul-2022 00:07 462  
[TXT]install-out.txt07-Jul-2022 00:07 1.8K 
[   ]install-summary.dcf07-Jul-2022 00:07 655