Name | Last modified | Size | Description | |
---|---|---|---|---|
Parent Directory | - | |||
install-summary.dcf | 29-Jun-2024 00:40 | 299 | ||
install-out.txt | 29-Jun-2024 00:40 | 1.0K | ||
checksrc-summary.dcf | 29-Jun-2024 00:40 | 507 | ||
checksrc-out.txt | 29-Jun-2024 00:40 | 6.6K | ||
buildsrc-summary.dcf | 29-Jun-2024 00:40 | 472 | ||
buildsrc-out.txt | 29-Jun-2024 00:40 | 6.8K | ||
buildbin-summary.dcf | 29-Jun-2024 00:40 | 620 | ||
buildbin-out.txt | 29-Jun-2024 00:40 | 1.3K | ||