Name | Last modified | Size | Description | |
---|---|---|---|---|
Parent Directory | - | |||
buildbin-out.txt | 12-Jun-2024 04:40 | 1.1K | ||
buildbin-summary.dcf | 12-Jun-2024 04:40 | 518 | ||
buildsrc-out.txt | 12-Jun-2024 04:40 | 880 | ||
buildsrc-summary.dcf | 12-Jun-2024 04:40 | 454 | ||
checksrc-out.txt | 12-Jun-2024 04:40 | 3.4K | ||
checksrc-summary.dcf | 12-Jun-2024 04:40 | 449 | ||
install-out.txt | 12-Jun-2024 04:40 | 965 | ||
install-summary.dcf | 12-Jun-2024 04:40 | 269 | ||