![]() | Name | Last modified | Size | Description |
---|---|---|---|---|
![]() | Parent Directory | - | ||
![]() | buildbin-out.txt | 01-Jul-2022 00:06 | 1.1K | |
![]() | buildbin-summary.dcf | 01-Jul-2022 00:06 | 518 | |
![]() | buildsrc-out.txt | 01-Jul-2022 00:06 | 828 | |
![]() | buildsrc-summary.dcf | 01-Jul-2022 00:06 | 441 | |
![]() | checksrc-out.txt | 01-Jul-2022 00:06 | 3.2K | |
![]() | checksrc-summary.dcf | 01-Jul-2022 00:06 | 440 | |
![]() | install-out.txt | 01-Jul-2022 00:06 | 1.8K | |
![]() | install-summary.dcf | 01-Jul-2022 00:06 | 604 | |