![]() | Name | Last modified | Size | Description |
---|---|---|---|---|
![]() | Parent Directory | - | ||
![]() | buildsrc-out.txt | 01-Jul-2022 00:05 | 797 | |
![]() | buildsrc-summary.dcf | 01-Jul-2022 00:05 | 408 | |
![]() | checksrc-out.txt | 01-Jul-2022 00:05 | 3.2K | |
![]() | checksrc-summary.dcf | 01-Jul-2022 00:05 | 414 | |
![]() | install-out.txt | 01-Jul-2022 00:05 | 941 | |
![]() | install-summary.dcf | 01-Jul-2022 00:05 | 254 | |