Index of /checkResults/devel/bioc-LATEST/meshes/raw-results

[ICO]NameLast modifiedSizeDescription

[DIR]Parent Directory  -  
[   ]info.dcf31-Mar-2023 01:33 267  
[DIR]merida1/30-Mar-2023 00:06 -  
[DIR]nebbiolo1/31-Mar-2023 01:33 -  
[DIR]palomino3/30-Mar-2023 00:05 -