Back to Multiple platform build/check report for BioC 3.17
ABCDEFGHIJKL[M]NOPQRSTUVWXYZ

This page was generated on 2022-11-25 11:06:04 -0500 (Fri, 25 Nov 2022).

HostnameOSArch (*)R versionInstalled pkgs
nebbiolo1Linux (Ubuntu 20.04.5 LTS)x86_64R Under development (unstable) (2022-10-25 r83175) -- "Unsuffered Consequences" 4461
palomino3Windows Server 2022 Datacenterx64R Under development (unstable) (2022-10-11 r83083 ucrt) -- "Unsuffered Consequences" 4200
merida1macOS 10.14.6 Mojavex86_64R Under development (unstable) (2022-11-13 r83342) -- "Unsuffered Consequences" 4230
Click on any hostname to see more info about the system (e.g. compilers)      (*) as reported by 'uname -p', except on Windows and Mac OS X

INSTALL results for meshes on nebbiolo1


To the developers/maintainers of the meshes package:
- Please allow up to 24 hours (and sometimes 48 hours) for your latest push to git@git.bioconductor.org:packages/meshes.git to
reflect on this report. See How and When does the builder pull? When will my changes propagate? for more information.
- Make sure to use the following settings in order to reproduce any error or warning you see on this page.

raw results

Package 1117/2154HostnameOS / ArchINSTALLBUILDCHECKBUILD BIN
meshes 1.25.0  (landing page)
Guangchuang Yu
Snapshot Date: 2022-11-24 14:00:14 -0500 (Thu, 24 Nov 2022)
git_url: https://git.bioconductor.org/packages/meshes
git_branch: master
git_last_commit: e46b862
git_last_commit_date: 2022-11-01 11:14:44 -0500 (Tue, 01 Nov 2022)
nebbiolo1Linux (Ubuntu 20.04.5 LTS) / x86_64  OK    OK    OK  UNNEEDED, same version is already published
palomino3Windows Server 2022 Datacenter / x64  OK    OK    OK    OK  UNNEEDED, same version is already published
merida1macOS 10.14.6 Mojave / x86_64  OK    OK    OK    OK  NO, package depends on 'DOSE' which is not available

Summary

Package: meshes
Version: 1.25.0
Command: /home/biocbuild/bbs-3.17-bioc/R/bin/R CMD INSTALL meshes
StartedAt: 2022-11-24 15:46:14 -0500 (Thu, 24 Nov 2022)
EndedAt: 2022-11-24 15:46:42 -0500 (Thu, 24 Nov 2022)
EllapsedTime: 27.1 seconds
RetCode: 0
Status:   OK  

Command output

##############################################################################
##############################################################################
###
### Running command:
###
###   /home/biocbuild/bbs-3.17-bioc/R/bin/R CMD INSTALL meshes
###
##############################################################################
##############################################################################


* installing to library ‘/home/biocbuild/bbs-3.17-bioc/R/library’
* installing *source* package ‘meshes’ ...
** using staged installation
** R
** data
*** moving datasets to lazyload DB
** inst
** byte-compile and prepare package for lazy loading
** help
*** installing help indices
** building package indices
** installing vignettes
** testing if installed package can be loaded from temporary location
** testing if installed package can be loaded from final location
** testing if installed package keeps a record of temporary installation path
* DONE (meshes)