Name | Last modified | Size | Description | |
---|---|---|---|---|
Parent Directory | - | |||
buildsrc-out.txt | 09-Jul-2024 00:45 | 845 | ||
buildsrc-summary.dcf | 09-Jul-2024 00:45 | 395 | ||
checksrc-out.txt | 09-Jul-2024 00:45 | 4.4K | ||
checksrc-summary.dcf | 09-Jul-2024 00:45 | 392 | ||
install-out.txt | 07-Jul-2024 00:44 | 925 | ||
install-summary.dcf | 07-Jul-2024 00:44 | 240 | ||