Index of /checkResults/devel/bioc-LATEST/mbQTL/raw-results
Name
Last modified
Size
Description
Parent Directory
-
info.dcf
27-Sep-2023 00:40
272
kunpeng2/
27-Sep-2023 00:40
-
lconway/
27-Sep-2023 00:39
-
nebbiolo2/
27-Sep-2023 00:36
-
palomino4/
27-Sep-2023 00:38
-