Name | Last modified | Size | Description | |
---|---|---|---|---|
Parent Directory | - | |||
buildbin-out.txt | 18-Jul-2024 00:42 | 4.6K | ||
buildbin-summary.dcf | 18-Jul-2024 00:42 | 521 | ||
buildsrc-out.txt | 18-Jul-2024 00:42 | 841 | ||
buildsrc-summary.dcf | 18-Jul-2024 00:42 | 422 | ||
checksrc-out.txt | 18-Jul-2024 00:42 | 3.5K | ||
checksrc-summary.dcf | 18-Jul-2024 00:42 | 437 | ||
install-out.txt | 18-Jul-2024 00:42 | 2.6K | ||
install-summary.dcf | 18-Jul-2024 00:42 | 266 | ||