Name | Last modified | Size | Description | |
---|---|---|---|---|
Parent Directory | - | |||
buildbin-out.txt | 29-Mar-2024 00:37 | 2.2K | ||
buildbin-summary.dcf | 29-Mar-2024 00:37 | 533 | ||
buildsrc-out.txt | 29-Mar-2024 00:37 | 968 | ||
buildsrc-summary.dcf | 29-Mar-2024 00:37 | 463 | ||
checksrc-out.txt | 29-Mar-2024 00:37 | 4.6K | ||
checksrc-summary.dcf | 29-Mar-2024 00:37 | 458 | ||
install-out.txt | 29-Mar-2024 00:37 | 2.0K | ||
install-summary.dcf | 29-Mar-2024 00:37 | 274 | ||