Name | Last modified | Size | Description | |
---|---|---|---|---|
Parent Directory | - | |||
buildbin-summary.dcf | 28-Jul-2024 00:40 | 545 | ||
buildbin-out.txt | 28-Jul-2024 00:40 | 1.1K | ||
checksrc-summary.dcf | 28-Jul-2024 00:40 | 467 | ||
checksrc-out.txt | 28-Jul-2024 00:40 | 7.6K | ||
buildsrc-summary.dcf | 28-Jul-2024 00:40 | 473 | ||
buildsrc-out.txt | 28-Jul-2024 00:40 | 864 | ||
install-out.txt | 28-Jul-2024 00:40 | 968 | ||
install-summary.dcf | 28-Jul-2024 00:40 | 278 | ||