Index of /checkResults/devel/bioc-LATEST/maPredictDSC/raw-results/nebbiolo2

[ICO]NameLast modifiedSizeDescription

[DIR]Parent Directory  -  
[   ]install-summary.dcf17-Aug-2022 00:05 269  
[TXT]install-out.txt17-Aug-2022 00:05 954  
[TXT]buildsrc-out.txt17-Aug-2022 00:05 826  
[   ]buildsrc-summary.dcf17-Aug-2022 00:05 432  
[TXT]checksrc-out.txt17-Aug-2022 00:05 7.6K 
[   ]checksrc-summary.dcf17-Aug-2022 00:05 444