Index of /checkResults/devel/bioc-LATEST/maPredictDSC/raw-results/lconway

[ICO]NameLast modifiedSizeDescription

[DIR]Parent Directory  -  
[   ]install-summary.dcf18-Aug-2022 00:08 279  
[TXT]install-out.txt18-Aug-2022 00:08 1.0K 
[   ]checksrc-summary.dcf18-Aug-2022 00:08 464  
[TXT]checksrc-out.txt18-Aug-2022 00:08 7.7K 
[   ]buildsrc-summary.dcf18-Aug-2022 00:08 442  
[TXT]buildsrc-out.txt18-Aug-2022 00:08 836  
[   ]buildbin-summary.dcf18-Aug-2022 00:08 558  
[TXT]buildbin-out.txt18-Aug-2022 00:08 1.2K