Name | Last modified | Size | Description | |
---|---|---|---|---|
Parent Directory | - | |||
install-out.txt | 27-Jul-2024 00:42 | 1.0K | ||
install-summary.dcf | 27-Jul-2024 00:42 | 278 | ||
buildsrc-out.txt | 27-Jul-2024 00:42 | 836 | ||
buildsrc-summary.dcf | 27-Jul-2024 00:42 | 442 | ||
checksrc-out.txt | 27-Jul-2024 00:42 | 7.8K | ||
checksrc-summary.dcf | 27-Jul-2024 00:42 | 463 | ||
buildbin-out.txt | 27-Jul-2024 00:42 | 1.2K | ||
buildbin-summary.dcf | 27-Jul-2024 00:42 | 560 | ||