Index of /checkResults/devel/bioc-LATEST/maPredictDSC/raw-results
Name
Last modified
Size
Description
Parent Directory
-
info.dcf
25-Jun-2022 00:08
282
lconway/
25-Jun-2022 00:08
-
nebbiolo2/
25-Jun-2022 00:05
-
palomino4/
25-Jun-2022 00:06
-