Index of /checkResults/devel/bioc-LATEST/mAPKL/raw-results/palomino4

[ICO]NameLast modifiedSizeDescription

[DIR]Parent Directory  -  
[TXT]buildsrc-out.txt01-Oct-2023 00:37 1.0K 
[   ]buildsrc-summary.dcf01-Oct-2023 00:37 362  
[TXT]install-out.txt01-Oct-2023 00:37 1.1K 
[   ]install-summary.dcf01-Oct-2023 00:37 264