Index of /checkResults/devel/bioc-LATEST/mAPKL/raw-results/nebbiolo2

[ICO]NameLast modifiedSizeDescription

[DIR]Parent Directory  -  
[TXT]buildsrc-out.txt30-Sep-2023 01:02 1.0K 
[   ]buildsrc-summary.dcf30-Sep-2023 01:02 329  
[TXT]install-out.txt30-Sep-2023 01:02 1.1K 
[   ]install-summary.dcf30-Sep-2023 01:02 255