Index of /checkResults/devel/bioc-LATEST/mAPKL/raw-results/lconway

[ICO]NameLast modifiedSizeDescription

[DIR]Parent Directory  -  
[TXT]buildsrc-out.txt30-Sep-2023 01:05 1.0K 
[   ]buildsrc-summary.dcf30-Sep-2023 01:05 339  
[TXT]install-out.txt30-Sep-2023 01:05 1.2K 
[   ]install-summary.dcf30-Sep-2023 01:05 265