Back to Multiple platform build/check report for BioC 3.17
ABCDEFGHIJKL[M]NOPQRSTUVWXYZ

This page was generated on 2022-11-09 13:20:49 -0500 (Wed, 09 Nov 2022).

HostnameOSArch (*)R versionInstalled pkgs
nebbiolo1Linux (Ubuntu 20.04.5 LTS)x86_64R Under development (unstable) (2022-10-25 r83175) -- "Unsuffered Consequences" 4449
merida1macOS 10.14.6 Mojavex86_644.2.2 (2022-10-31) -- "Innocent and Trusting" 3992
Click on any hostname to see more info about the system (e.g. compilers)      (*) as reported by 'uname -p', except on Windows and Mac OS X

CHECK results for mAPKL on merida1


To the developers/maintainers of the mAPKL package:
- Please allow up to 24 hours (and sometimes 48 hours) for your latest push to git@git.bioconductor.org:packages/mAPKL.git to
reflect on this report. See How and When does the builder pull? When will my changes propagate? for more information.
- Make sure to use the following settings in order to reproduce any error or warning you see on this page.

raw results

Package 1071/2151HostnameOS / ArchINSTALLBUILDCHECKBUILD BIN
mAPKL 1.29.0  (landing page)
Argiris Sakellariou
Snapshot Date: 2022-11-08 13:55:08 -0500 (Tue, 08 Nov 2022)
git_url: https://git.bioconductor.org/packages/mAPKL
git_branch: master
git_last_commit: 96f181e
git_last_commit_date: 2022-11-01 11:10:59 -0500 (Tue, 01 Nov 2022)
nebbiolo1Linux (Ubuntu 20.04.5 LTS) / x86_64  OK    ERROR  skipped
merida1macOS 10.14.6 Mojave / x86_64  OK    OK    OK    OK  NO, package depends on 'AnnotationDbi' which is not available

Summary

Package: mAPKL
Version: 1.29.0
Command: /Library/Frameworks/R.framework/Resources/bin/R CMD check --install=check:mAPKL.install-out.txt --library=/Library/Frameworks/R.framework/Resources/library --no-vignettes --timings mAPKL_1.29.0.tar.gz
StartedAt: 2022-11-09 04:14:48 -0500 (Wed, 09 Nov 2022)
EndedAt: 2022-11-09 04:41:01 -0500 (Wed, 09 Nov 2022)
EllapsedTime: 1573.4 seconds
RetCode: 0
Status:   OK  
CheckDir: mAPKL.Rcheck
Warnings: 0

Command output

##############################################################################
##############################################################################
###
### Running command:
###
###   /Library/Frameworks/R.framework/Resources/bin/R CMD check --install=check:mAPKL.install-out.txt --library=/Library/Frameworks/R.framework/Resources/library --no-vignettes --timings mAPKL_1.29.0.tar.gz
###
##############################################################################
##############################################################################


* using log directory ‘/Users/biocbuild/bbs-3.17-bioc/meat/mAPKL.Rcheck’
* using R version 4.2.2 (2022-10-31)
* using platform: x86_64-apple-darwin17.0 (64-bit)
* using session charset: UTF-8
* using option ‘--no-vignettes’
* checking for file ‘mAPKL/DESCRIPTION’ ... OK
* checking extension type ... Package
* this is package ‘mAPKL’ version ‘1.29.0’
* checking package namespace information ... OK
* checking package dependencies ... OK
* checking if this is a source package ... OK
* checking if there is a namespace ... OK
* checking for hidden files and directories ... OK
* checking for portable file names ... OK
* checking for sufficient/correct file permissions ... OK
* checking whether package ‘mAPKL’ can be installed ... OK
* checking installed package size ... OK
* checking package directory ... OK
* checking ‘build’ directory ... OK
* checking DESCRIPTION meta-information ... OK
* checking top-level files ... OK
* checking for left-over files ... OK
* checking index information ... OK
* checking package subdirectories ... OK
* checking R files for non-ASCII characters ... OK
* checking R files for syntax errors ... OK
* checking whether the package can be loaded ... OK
* checking whether the package can be loaded with stated dependencies ... OK
* checking whether the package can be unloaded cleanly ... OK
* checking whether the namespace can be loaded with stated dependencies ... OK
* checking whether the namespace can be unloaded cleanly ... OK
* checking dependencies in R code ... OK
* checking S3 generic/method consistency ... OK
* checking replacement functions ... OK
* checking foreign function calls ... OK
* checking R code for possible problems ... OK
* checking Rd files ... OK
* checking Rd metadata ... OK
* checking Rd cross-references ... OK
* checking for missing documentation entries ... OK
* checking for code/documentation mismatches ... OK
* checking Rd \usage sections ... OK
* checking Rd contents ... OK
* checking for unstated dependencies in examples ... OK
* checking sizes of PDF files under ‘inst/doc’ ... OK
* checking files in ‘vignettes’ ... OK
* checking examples ... OK
Examples with CPU (user + system) or elapsed time > 5s
                  user system elapsed
classification 201.781  2.902 293.167
netwAttr       195.138  2.072 291.657
mAPKL          193.844  2.085 290.033
preprocess      40.116  0.672  58.954
* checking for unstated dependencies in ‘tests’ ... OK
* checking tests ...
  Running ‘runTests.R’
 OK
* checking for unstated dependencies in vignettes ... OK
* checking package vignettes in ‘inst/doc’ ... OK
* checking running R code from vignettes ... SKIPPED
* checking re-building of vignette outputs ... SKIPPED
* checking PDF version of manual ... OK
* DONE

Status: OK


Installation output

mAPKL.Rcheck/00install.out

##############################################################################
##############################################################################
###
### Running command:
###
###   /Library/Frameworks/R.framework/Resources/bin/R CMD INSTALL mAPKL
###
##############################################################################
##############################################################################


* installing to library ‘/Library/Frameworks/R.framework/Versions/4.2/Resources/library’
* installing *source* package ‘mAPKL’ ...
** using staged installation
** R
** inst
** byte-compile and prepare package for lazy loading
** help
*** installing help indices
*** copying figures
** building package indices
** installing vignettes
** testing if installed package can be loaded from temporary location
** testing if installed package can be loaded from final location
** testing if installed package keeps a record of temporary installation path
* DONE (mAPKL)

Tests output

mAPKL.Rcheck/tests/runTests.Rout


R version 4.2.2 (2022-10-31) -- "Innocent and Trusting"
Copyright (C) 2022 The R Foundation for Statistical Computing
Platform: x86_64-apple-darwin17.0 (64-bit)

R is free software and comes with ABSOLUTELY NO WARRANTY.
You are welcome to redistribute it under certain conditions.
Type 'license()' or 'licence()' for distribution details.

R is a collaborative project with many contributors.
Type 'contributors()' for more information and
'citation()' on how to cite R or R packages in publications.

Type 'demo()' for some demos, 'help()' for on-line help, or
'help.start()' for an HTML browser interface to help.
Type 'q()' to quit R.

> BiocGenerics:::testPackage("mAPKL")

Attaching package: 'BiocGenerics'

The following objects are masked from 'package:stats':

    IQR, mad, sd, var, xtabs

The following objects are masked from 'package:base':

    Filter, Find, Map, Position, Reduce, anyDuplicated, aperm, append,
    as.data.frame, basename, cbind, colnames, dirname, do.call,
    duplicated, eval, evalq, get, grep, grepl, intersect, is.unsorted,
    lapply, mapply, match, mget, order, paste, pmax, pmax.int, pmin,
    pmin.int, rank, rbind, rownames, sapply, setdiff, sort, table,
    tapply, union, unique, unsplit, which.max, which.min

Welcome to Bioconductor

    Vignettes contain introductory material; view with
    'browseVignettes()'. To cite Bioconductor, see
    'citation("Biobase")', and for packages 'citation("pkgname")'.

Assign 60% as train data and 40% as test data
Saving density graph for breast$trainData in /Users/biocbuild/bbs-3.17-bioc/meat/mAPKL.Rcheck/tests
Saving density graph for breast$testData in /Users/biocbuild/bbs-3.17-bioc/meat/mAPKL.Rcheck/tests
b=10	b=20	b=30	b=40	b=50	b=60	b=70	b=80	b=90	b=100	
b=110	b=120	b=130	b=140	b=150	b=160	b=170	b=180	b=190	b=200	
b=210	b=220	b=230	b=240	b=250	b=260	b=270	b=280	b=290	b=300	
b=310	b=320	b=330	b=340	b=350	b=360	b=370	b=380	b=390	b=400	
b=410	b=420	b=430	b=440	b=450	b=460	b=470	b=480	b=490	b=500	
b=510	b=520	b=530	b=540	b=550	b=560	b=570	b=580	b=590	b=600	
b=610	b=620	b=630	b=640	b=650	b=660	b=670	b=680	b=690	b=700	
b=710	b=720	b=730	b=740	b=750	b=760	b=770	b=780	b=790	b=800	
b=810	b=820	b=830	b=840	b=850	b=860	b=870	b=880	b=890	b=900	
b=910	b=920	b=930	b=940	b=950	b=960	b=970	b=980	b=990	b=1000	
Please wait! The (KL) cluster indexing may take several minutes...
Asking for 22 number of clusters
fc according to limma
Loading required package: hgu133plus2.db
Loading required package: AnnotationDbi
Loading required package: stats4
Loading required package: IRanges
Loading required package: S4Vectors

Attaching package: 'S4Vectors'

The following objects are masked from 'package:base':

    I, expand.grid, unname

Loading required package: org.Hs.eg.db


'select()' returned 1:1 mapping between keys and columns
'select()' returned 1:1 mapping between keys and columns
'select()' returned 1:1 mapping between keys and columns
'select()' returned 1:1 mapping between keys and columns
'select()' returned 1:1 mapping between keys and columns
Negative samples: 8
Positive samples: 4
TN=6
FP=2
TP=3
FN=1
AUC=0.75
Accuracy=75.00
MCC=0.48
Specificity=0.75
Sensitivity=0.75
Assign 60% as train data and 40% as test data


RUNIT TEST PROTOCOL -- Wed Nov  9 04:40:49 2022 
*********************************************** 
Number of test functions: 3 
Number of errors: 0 
Number of failures: 0 

 
1 Test Suite : 
mAPKL RUnit Tests - 3 test functions, 0 errors, 0 failures
Number of test functions: 3 
Number of errors: 0 
Number of failures: 0 
There were 25 warnings (use warnings() to see them)
> 
> proc.time()
   user  system elapsed 
215.642   2.837 306.808 

Example timings

mAPKL.Rcheck/mAPKL-Ex.timings

nameusersystemelapsed
annotate2.0070.0442.760
classification201.781 2.902293.167
mAPKL193.844 2.085290.033
metrics0.0030.0010.011
netwAttr195.138 2.072291.657
preprocess40.116 0.67258.954
probes2pathways1.1610.0421.775
report0.0000.0000.001
sampling1.7160.0712.672