Back to Multiple platform build/check report for BioC 3.17
ABCDEFGHIJKL[M]NOPQRSTUVWXYZ

This page was generated on 2022-11-09 13:20:49 -0500 (Wed, 09 Nov 2022).

HostnameOSArch (*)R versionInstalled pkgs
nebbiolo1Linux (Ubuntu 20.04.5 LTS)x86_64R Under development (unstable) (2022-10-25 r83175) -- "Unsuffered Consequences" 4449
merida1macOS 10.14.6 Mojavex86_644.2.2 (2022-10-31) -- "Innocent and Trusting" 3992
Click on any hostname to see more info about the system (e.g. compilers)      (*) as reported by 'uname -p', except on Windows and Mac OS X

BUILD BIN results for mAPKL on merida1


To the developers/maintainers of the mAPKL package:
- Please allow up to 24 hours (and sometimes 48 hours) for your latest push to git@git.bioconductor.org:packages/mAPKL.git to
reflect on this report. See How and When does the builder pull? When will my changes propagate? for more information.
- Make sure to use the following settings in order to reproduce any error or warning you see on this page.

raw results

Package 1071/2151HostnameOS / ArchINSTALLBUILDCHECKBUILD BIN
mAPKL 1.29.0  (landing page)
Argiris Sakellariou
Snapshot Date: 2022-11-08 13:55:08 -0500 (Tue, 08 Nov 2022)
git_url: https://git.bioconductor.org/packages/mAPKL
git_branch: master
git_last_commit: 96f181e
git_last_commit_date: 2022-11-01 11:10:59 -0500 (Tue, 01 Nov 2022)
nebbiolo1Linux (Ubuntu 20.04.5 LTS) / x86_64  OK    ERROR  skipped
merida1macOS 10.14.6 Mojave / x86_64  OK    OK    OK    OK  NO, package depends on 'AnnotationDbi' which is not available

Summary

Package: mAPKL
Version: 1.29.0
Command: rm -rf mAPKL.buildbin-libdir && mkdir mAPKL.buildbin-libdir && /Users/biocbuild/BBS/utils/build-universal.sh mAPKL_1.29.0.tar.gz /Library/Frameworks/R.framework/Resources/bin/R mAPKL.buildbin-libdir
StartedAt: 2022-11-09 09:10:51 -0500 (Wed, 09 Nov 2022)
EndedAt: 2022-11-09 09:11:57 -0500 (Wed, 09 Nov 2022)
EllapsedTime: 66.0 seconds
RetCode: 0
Status:   OK  
PackageFile: mAPKL_1.29.0.tgz
PackageFileSize: 1.794 MiB

Command output

##############################################################################
##############################################################################
###
### Running command:
###
###   rm -rf mAPKL.buildbin-libdir && mkdir mAPKL.buildbin-libdir && /Users/biocbuild/BBS/utils/build-universal.sh mAPKL_1.29.0.tar.gz /Library/Frameworks/R.framework/Resources/bin/R mAPKL.buildbin-libdir
###
##############################################################################
##############################################################################


>>>>>>> 
>>>>>>> INSTALLATION WITH 'R CMD INSTALL --preclean --no-multiarch --library=mAPKL.buildbin-libdir mAPKL_1.29.0.tar.gz'
>>>>>>> 

* installing *source* package ‘mAPKL’ ...
** using staged installation
** R
** inst
** byte-compile and prepare package for lazy loading
** help
*** installing help indices
*** copying figures
** building package indices
** installing vignettes
** testing if installed package can be loaded from temporary location
** testing if installed package can be loaded from final location
** testing if installed package keeps a record of temporary installation path
* DONE (mAPKL)