Back to Multiple platform build/check report for BioC 3.15
ABCDEFGHIJK[L]MNOPQRSTUVWXYZ

This page was generated on 2022-01-24 11:07:41 -0500 (Mon, 24 Jan 2022).

HostnameOSArch (*)R versionInstalled pkgs
nebbiolo1Linux (Ubuntu 20.04.4 LTS)x86_64R Under development (unstable) (2022-01-05 r81451) -- "Unsuffered Consequences" 4163
riesling1Windows Server 2019 Standardx64R Under development (unstable) (2021-11-21 r81221) -- "Unsuffered Consequences" 4058
palomino3Windows Server 2022 Datacenterx64R Under development (unstable) (2021-12-21 r81400 ucrt) -- "Unsuffered Consequences" 4000
merida1macOS 10.14.6 Mojavex86_64R Under development (unstable) (2022-01-05 r81451) -- "Unsuffered Consequences" 4117
Click on any hostname to see more info about the system (e.g. compilers)      (*) as reported by 'uname -p', except on Windows and Mac OS X

BUILD BIN results for lpsymphony on riesling1


To the developers/maintainers of the lpsymphony package:
- Please allow up to 24 hours (and sometimes 48 hours) for your latest push to git@git.bioconductor.org:packages/lpsymphony.git to
reflect on this report. See How and When does the builder pull? When will my changes propagate? here for more information.
- Make sure to use the following settings in order to reproduce any error or warning you see on this page.

raw results

Package 1014/2075HostnameOS / ArchINSTALLBUILDCHECKBUILD BIN
lpsymphony 1.23.0  (landing page)
Vladislav Kim
Snapshot Date: 2022-01-23 13:55:15 -0500 (Sun, 23 Jan 2022)
git_url: https://git.bioconductor.org/packages/lpsymphony
git_branch: master
git_last_commit: 66ebd3b
git_last_commit_date: 2021-10-26 12:24:22 -0500 (Tue, 26 Oct 2021)
nebbiolo1Linux (Ubuntu 20.04.4 LTS) / x86_64  OK    OK    OK  UNNEEDED, same version is already published
riesling1Windows Server 2019 Standard / x64  OK    OK    OK    OK  
palomino3Windows Server 2022 Datacenter / x64  OK    OK    OK    OK  UNNEEDED, same version is already published
merida1macOS 10.14.6 Mojave / x86_64  OK    OK    OK    OK  UNNEEDED, same version is already published

Summary

Package: lpsymphony
Version: 1.23.0
Command: rm -rf lpsymphony.buildbin-libdir && mkdir lpsymphony.buildbin-libdir && D:\biocbuild\bbs-3.15-bioc\R\bin\R.exe CMD INSTALL --build --library=lpsymphony.buildbin-libdir lpsymphony_1.23.0.tar.gz
StartedAt: 2022-01-23 21:03:45 -0500 (Sun, 23 Jan 2022)
EndedAt: 2022-01-23 21:04:48 -0500 (Sun, 23 Jan 2022)
EllapsedTime: 63.3 seconds
RetCode: 0
Status:   OK  
PackageFile: lpsymphony_1.23.0.zip
PackageFileSize: 2.716 MiB

Command output

##############################################################################
##############################################################################
###
### Running command:
###
###   rm -rf lpsymphony.buildbin-libdir && mkdir lpsymphony.buildbin-libdir && D:\biocbuild\bbs-3.15-bioc\R\bin\R.exe CMD INSTALL --build --library=lpsymphony.buildbin-libdir lpsymphony_1.23.0.tar.gz
###
##############################################################################
##############################################################################


* installing *source* package 'lpsymphony' ...
** using staged installation
** libs
cp WinLib/x64/*.dll .
installing to D:/biocbuild/bbs-3.15-bioc/meat/lpsymphony.buildbin-libdir/00LOCK-lpsymphony/00new/lpsymphony/libs/x64
** R
** inst
** byte-compile and prepare package for lazy loading
** help
*** installing help indices
  converting help for package 'lpsymphony'
    finding HTML links ... done
    lpsymphony_solve                        html  
** building package indices
** installing vignettes
** testing if installed package can be loaded from temporary location
** testing if installed package can be loaded from final location
** testing if installed package keeps a record of temporary installation path
* MD5 sums
packaged installation of 'lpsymphony' as lpsymphony_1.23.0.zip
* DONE (lpsymphony)