![]() | Name | Last modified | Size | Description |
---|---|---|---|---|
![]() | Parent Directory | - | ||
![]() | buildbin-out.txt | 22-Sep-2023 00:38 | 1.3K | |
![]() | buildbin-summary.dcf | 22-Sep-2023 00:38 | 533 | |
![]() | buildsrc-out.txt | 22-Sep-2023 00:38 | 1.9K | |
![]() | buildsrc-summary.dcf | 22-Sep-2023 00:38 | 464 | |
![]() | checksrc-out.txt | 22-Sep-2023 00:38 | 4.9K | |
![]() | checksrc-summary.dcf | 22-Sep-2023 00:38 | 464 | |
![]() | install-out.txt | 22-Sep-2023 00:38 | 1.1K | |
![]() | install-summary.dcf | 22-Sep-2023 00:38 | 274 | |