![]() | Name | Last modified | Size | Description |
---|---|---|---|---|
![]() | Parent Directory | - | ||
![]() | buildsrc-out.txt | 22-Sep-2023 00:36 | 896 | |
![]() | buildsrc-summary.dcf | 22-Sep-2023 00:36 | 427 | |
![]() | checksrc-out.txt | 22-Sep-2023 00:36 | 5.1K | |
![]() | checksrc-summary.dcf | 22-Sep-2023 00:36 | 431 | |
![]() | install-out.txt | 22-Sep-2023 00:36 | 419K | |
![]() | install-summary.dcf | 22-Sep-2023 00:36 | 266 | |