Name | Last modified | Size | Description | |
---|---|---|---|---|
Parent Directory | - | |||
buildsrc-out.txt | 29-Mar-2024 00:36 | 896 | ||
buildsrc-summary.dcf | 29-Mar-2024 00:36 | 427 | ||
checksrc-out.txt | 29-Mar-2024 00:36 | 5.0K | ||
checksrc-summary.dcf | 29-Mar-2024 00:36 | 431 | ||
install-out.txt | 29-Mar-2024 00:36 | 419K | ||
install-summary.dcf | 29-Mar-2024 00:36 | 266 | ||