Name | Last modified | Size | Description | |
---|---|---|---|---|
Parent Directory | - | |||
install-summary.dcf | 07-May-2024 00:37 | 277 | ||
install-out.txt | 07-May-2024 00:37 | 413K | ||
buildsrc-out.txt | 07-May-2024 00:37 | 906 | ||
buildsrc-summary.dcf | 07-May-2024 00:37 | 438 | ||
checksrc-out.txt | 07-May-2024 00:37 | 5.2K | ||
checksrc-summary.dcf | 07-May-2024 00:37 | 461 | ||
buildbin-out.txt | 07-May-2024 00:37 | 448K | ||
buildbin-summary.dcf | 07-May-2024 00:37 | 549 | ||