![]() | Name | Last modified | Size | Description |
---|---|---|---|---|
![]() | Parent Directory | - | ||
![]() | buildbin-out.txt | 22-Sep-2023 00:39 | 446K | |
![]() | buildbin-summary.dcf | 22-Sep-2023 00:39 | 548 | |
![]() | buildsrc-out.txt | 22-Sep-2023 00:39 | 906 | |
![]() | buildsrc-summary.dcf | 22-Sep-2023 00:39 | 437 | |
![]() | checksrc-out.txt | 22-Sep-2023 00:39 | 5.2K | |
![]() | checksrc-summary.dcf | 22-Sep-2023 00:39 | 461 | |
![]() | install-out.txt | 22-Sep-2023 00:39 | 414K | |
![]() | install-summary.dcf | 22-Sep-2023 00:39 | 276 | |