Index of /checkResults/devel/bioc-LATEST/lpsymphony/raw-results/kunpeng2

[ICO]NameLast modifiedSizeDescription

[DIR]Parent Directory  -  
[TXT]buildsrc-out.txt29-Sep-2023 00:40 2.7K 
[   ]buildsrc-summary.dcf29-Sep-2023 00:40 332  
[TXT]install-out.txt29-Sep-2023 00:40 2.4K 
[   ]install-summary.dcf29-Sep-2023 00:40 262