Back to Multiple platform build/check report for BioC 3.16
ABCDEFGHIJK[L]MNOPQRSTUVWXYZ

This page was generated on 2022-07-05 11:06:43 -0400 (Tue, 05 Jul 2022).

HostnameOSArch (*)R versionInstalled pkgs
nebbiolo2Linux (Ubuntu 20.04.4 LTS)x86_644.2.0 Patched (2022-06-02 r82447) -- "Vigorous Calisthenics" 4343
palomino4Windows Server 2022 Datacenterx644.2.0 Patched (2022-06-02 r82447 ucrt) -- "Vigorous Calisthenics" 4148
lconwaymacOS 12.2.1 Montereyx86_644.2.0 Patched (2022-05-29 r82424) -- "Vigorous Calisthenics" 4160
Click on any hostname to see more info about the system (e.g. compilers)      (*) as reported by 'uname -p', except on Windows and Mac OS X

CHECK results for lipidr on palomino4


To the developers/maintainers of the lipidr package:
- Please allow up to 24 hours (and sometimes 48 hours) for your latest push to git@git.bioconductor.org:packages/lipidr.git to
reflect on this report. See How and When does the builder pull? When will my changes propagate? for more information.
- Make sure to use the following settings in order to reproduce any error or warning you see on this page.

raw results

Package 1021/2124HostnameOS / ArchINSTALLBUILDCHECKBUILD BIN
lipidr 2.11.0  (landing page)
Ahmed Mohamed
Snapshot Date: 2022-07-04 14:00:06 -0400 (Mon, 04 Jul 2022)
git_url: https://git.bioconductor.org/packages/lipidr
git_branch: master
git_last_commit: 35bec2e
git_last_commit_date: 2022-04-26 11:55:16 -0400 (Tue, 26 Apr 2022)
nebbiolo2Linux (Ubuntu 20.04.4 LTS) / x86_64  OK    OK    OK  UNNEEDED, same version is already published
palomino4Windows Server 2022 Datacenter / x64  OK    OK    OK    OK  UNNEEDED, same version is already published
lconwaymacOS 12.2.1 Monterey / x86_64  OK    OK    OK    OK  UNNEEDED, same version is already published

Summary

Package: lipidr
Version: 2.11.0
Command: F:\biocbuild\bbs-3.16-bioc\R\bin\R.exe CMD check --force-multiarch --install=check:lipidr.install-out.txt --library=F:\biocbuild\bbs-3.16-bioc\R\library --no-vignettes --timings lipidr_2.11.0.tar.gz
StartedAt: 2022-07-05 02:57:24 -0400 (Tue, 05 Jul 2022)
EndedAt: 2022-07-05 03:03:44 -0400 (Tue, 05 Jul 2022)
EllapsedTime: 380.9 seconds
RetCode: 0
Status:   OK  
CheckDir: lipidr.Rcheck
Warnings: 0

Command output

##############################################################################
##############################################################################
###
### Running command:
###
###   F:\biocbuild\bbs-3.16-bioc\R\bin\R.exe CMD check --force-multiarch --install=check:lipidr.install-out.txt --library=F:\biocbuild\bbs-3.16-bioc\R\library --no-vignettes --timings lipidr_2.11.0.tar.gz
###
##############################################################################
##############################################################################


* using log directory 'F:/biocbuild/bbs-3.16-bioc/meat/lipidr.Rcheck'
* using R version 4.2.0 Patched (2022-06-02 r82447 ucrt)
* using platform: x86_64-w64-mingw32 (64-bit)
* using session charset: UTF-8
* using option '--no-vignettes'
* checking for file 'lipidr/DESCRIPTION' ... OK
* this is package 'lipidr' version '2.11.0'
* checking package namespace information ... OK
* checking package dependencies ... OK
* checking if this is a source package ... OK
* checking if there is a namespace ... OK
* checking for hidden files and directories ... OK
* checking for portable file names ... OK
* checking whether package 'lipidr' can be installed ... OK
* checking installed package size ... OK
* checking package directory ... OK
* checking 'build' directory ... OK
* checking DESCRIPTION meta-information ... OK
* checking top-level files ... OK
* checking for left-over files ... OK
* checking index information ... OK
* checking package subdirectories ... OK
* checking R files for non-ASCII characters ... OK
* checking R files for syntax errors ... OK
* checking whether the package can be loaded ... OK
* checking whether the package can be loaded with stated dependencies ... OK
* checking whether the package can be unloaded cleanly ... OK
* checking whether the namespace can be loaded with stated dependencies ... OK
* checking whether the namespace can be unloaded cleanly ... OK
* checking dependencies in R code ... OK
* checking S3 generic/method consistency ... OK
* checking replacement functions ... OK
* checking foreign function calls ... OK
* checking R code for possible problems ... NOTE
plot_results_volcano: no visible binding for global variable 'AveExpr'
Undefined global functions or variables:
  AveExpr
* checking Rd files ... OK
* checking Rd metadata ... OK
* checking Rd cross-references ... OK
* checking for missing documentation entries ... OK
* checking for code/documentation mismatches ... OK
* checking Rd \usage sections ... OK
* checking Rd contents ... OK
* checking for unstated dependencies in examples ... OK
* checking contents of 'data' directory ... OK
* checking data for non-ASCII characters ... OK
* checking data for ASCII and uncompressed saves ... OK
* checking files in 'vignettes' ... OK
* checking examples ... OK
Examples with CPU (user + system) or elapsed time > 5s
     user system elapsed
lsea 2.76   0.09   10.86
* checking for unstated dependencies in 'tests' ... OK
* checking tests ...
  Running 'spelling.R'
  Running 'testthat.R'
 OK
* checking for unstated dependencies in vignettes ... OK
* checking package vignettes in 'inst/doc' ... OK
* checking running R code from vignettes ... SKIPPED
* checking re-building of vignette outputs ... SKIPPED
* checking PDF version of manual ... OK
* DONE

Status: 1 NOTE
See
  'F:/biocbuild/bbs-3.16-bioc/meat/lipidr.Rcheck/00check.log'
for details.



Installation output

lipidr.Rcheck/00install.out

##############################################################################
##############################################################################
###
### Running command:
###
###   C:\cygwin\bin\curl.exe -O http://155.52.207.166/BBS/3.16/bioc/src/contrib/lipidr_2.11.0.tar.gz && rm -rf lipidr.buildbin-libdir && mkdir lipidr.buildbin-libdir && F:\biocbuild\bbs-3.16-bioc\R\bin\R.exe CMD INSTALL --merge-multiarch --build --library=lipidr.buildbin-libdir lipidr_2.11.0.tar.gz && F:\biocbuild\bbs-3.16-bioc\R\bin\R.exe CMD INSTALL lipidr_2.11.0.zip && rm lipidr_2.11.0.tar.gz lipidr_2.11.0.zip
###
##############################################################################
##############################################################################


  % Total    % Received % Xferd  Average Speed   Time    Time     Time  Current
                                 Dload  Upload   Total   Spent    Left  Speed

  0     0    0     0    0     0      0      0 --:--:-- --:--:-- --:--:--     0
 65 1841k   65 1201k    0     0  7929k      0 --:--:-- --:--:-- --:--:-- 7958k
100 1841k  100 1841k    0     0  9600k      0 --:--:-- --:--:-- --:--:-- 9593k
only one architecture so ignoring '--merge-multiarch'
* installing *source* package 'lipidr' ...
** using staged installation
** R
** data
** inst
** byte-compile and prepare package for lazy loading
** help
*** installing help indices
*** copying figures
** building package indices
** installing vignettes
** testing if installed package can be loaded from temporary location
** testing if installed package can be loaded from final location
** testing if installed package keeps a record of temporary installation path
* MD5 sums
packaged installation of 'lipidr' as lipidr_2.11.0.zip
* DONE (lipidr)
* installing to library 'F:/biocbuild/bbs-3.16-bioc/R/library'
package 'lipidr' successfully unpacked and MD5 sums checked

Tests output

lipidr.Rcheck/tests/spelling.Rout


R version 4.2.0 Patched (2022-06-02 r82447 ucrt) -- "Vigorous Calisthenics"
Copyright (C) 2022 The R Foundation for Statistical Computing
Platform: x86_64-w64-mingw32/x64 (64-bit)

R is free software and comes with ABSOLUTELY NO WARRANTY.
You are welcome to redistribute it under certain conditions.
Type 'license()' or 'licence()' for distribution details.

R is a collaborative project with many contributors.
Type 'contributors()' for more information and
'citation()' on how to cite R or R packages in publications.

Type 'demo()' for some demos, 'help()' for on-line help, or
'help.start()' for an HTML browser interface to help.
Type 'q()' to quit R.

> if (requireNamespace("spelling", quietly = TRUE)) {
+   spelling::spell_check_test(
+     vignettes = TRUE, error = FALSE,
+     skip_on_cran = TRUE
+   )
+ }
NULL
> 
> proc.time()
   user  system elapsed 
   0.20    0.07    0.29 

lipidr.Rcheck/tests/testthat.Rout


R version 4.2.0 Patched (2022-06-02 r82447 ucrt) -- "Vigorous Calisthenics"
Copyright (C) 2022 The R Foundation for Statistical Computing
Platform: x86_64-w64-mingw32/x64 (64-bit)

R is free software and comes with ABSOLUTELY NO WARRANTY.
You are welcome to redistribute it under certain conditions.
Type 'license()' or 'licence()' for distribution details.

R is a collaborative project with many contributors.
Type 'contributors()' for more information and
'citation()' on how to cite R or R packages in publications.

Type 'demo()' for some demos, 'help()' for on-line help, or
'help.start()' for an HTML browser interface to help.
Type 'q()' to quit R.

> library(testthat)
> library(lipidr)
Loading required package: SummarizedExperiment
Loading required package: MatrixGenerics
Loading required package: matrixStats

Attaching package: 'MatrixGenerics'

The following objects are masked from 'package:matrixStats':

    colAlls, colAnyNAs, colAnys, colAvgsPerRowSet, colCollapse,
    colCounts, colCummaxs, colCummins, colCumprods, colCumsums,
    colDiffs, colIQRDiffs, colIQRs, colLogSumExps, colMadDiffs,
    colMads, colMaxs, colMeans2, colMedians, colMins, colOrderStats,
    colProds, colQuantiles, colRanges, colRanks, colSdDiffs, colSds,
    colSums2, colTabulates, colVarDiffs, colVars, colWeightedMads,
    colWeightedMeans, colWeightedMedians, colWeightedSds,
    colWeightedVars, rowAlls, rowAnyNAs, rowAnys, rowAvgsPerColSet,
    rowCollapse, rowCounts, rowCummaxs, rowCummins, rowCumprods,
    rowCumsums, rowDiffs, rowIQRDiffs, rowIQRs, rowLogSumExps,
    rowMadDiffs, rowMads, rowMaxs, rowMeans2, rowMedians, rowMins,
    rowOrderStats, rowProds, rowQuantiles, rowRanges, rowRanks,
    rowSdDiffs, rowSds, rowSums2, rowTabulates, rowVarDiffs, rowVars,
    rowWeightedMads, rowWeightedMeans, rowWeightedMedians,
    rowWeightedSds, rowWeightedVars

Loading required package: GenomicRanges
Loading required package: stats4
Loading required package: BiocGenerics

Attaching package: 'BiocGenerics'

The following objects are masked from 'package:stats':

    IQR, mad, sd, var, xtabs

The following objects are masked from 'package:base':

    Filter, Find, Map, Position, Reduce, anyDuplicated, append,
    as.data.frame, basename, cbind, colnames, dirname, do.call,
    duplicated, eval, evalq, get, grep, grepl, intersect, is.unsorted,
    lapply, mapply, match, mget, order, paste, pmax, pmax.int, pmin,
    pmin.int, rank, rbind, rownames, sapply, setdiff, sort, table,
    tapply, union, unique, unsplit, which.max, which.min

Loading required package: S4Vectors

Attaching package: 'S4Vectors'

The following objects are masked from 'package:base':

    I, expand.grid, unname

Loading required package: IRanges

Attaching package: 'IRanges'

The following object is masked from 'package:grDevices':

    windows

Loading required package: GenomeInfoDb
Loading required package: Biobase
Welcome to Bioconductor

    Vignettes contain introductory material; view with
    'browseVignettes()'. To cite Bioconductor, see
    'citation("Biobase")', and for packages 'citation("pkgname")'.


Attaching package: 'Biobase'

The following object is masked from 'package:MatrixGenerics':

    rowMedians

The following objects are masked from 'package:matrixStats':

    anyMissing, rowMedians

> test_check("lipidr")
[1] 18866.28
[ FAIL 0 | WARN 4 | SKIP 15 | PASS 373 ]

══ Skipped tests ═══════════════════════════════════════════════════════════════
• On Bioconductor (12)
• empty test (3)

[ FAIL 0 | WARN 4 | SKIP 15 | PASS 373 ]
> 
> proc.time()
   user  system elapsed 
  52.03    1.57  164.35 

Example timings

lipidr.Rcheck/lipidr-Ex.timings

nameusersystemelapsed
add_sample_annotation1.360.031.46
annotate_lipids0.110.000.11
data_normalized0.060.000.06
de_analysis0.720.030.77
filter_by_cv0.040.030.07
gen_lipidsets0.180.030.21
impute_na0.530.040.65
lipidDefaults0.000.030.03
lipidnames_pattern000
lipidr-data0.030.030.07
lsea 2.76 0.0910.86
mva2.130.062.18
mw000
non_parsed_molecules0.040.020.06
normalize_istd0.810.000.83
normalize_pqn0.740.000.73
pipe0.030.060.09
plot_chain_distribution0.810.010.83
plot_heatmap3.160.113.91
plot_lipidclass2.360.052.40
plot_molecules4.360.054.41
plot_samples1.650.041.70
plot_trend0.380.030.41
read_skyline0.510.020.53
remove_non_parsed_molecules0.020.060.08
set_attr0.050.030.08
summarize_transitions0.590.020.61
update_molecule_names0.280.060.34
use_interactive_graphics0.080.050.13