Back to Multiple platform build/check report for BioC 3.17
ABCDEFGHIJK[L]MNOPQRSTUVWXYZ

This page was generated on 2022-11-26 11:09:22 -0500 (Sat, 26 Nov 2022).

HostnameOSArch (*)R versionInstalled pkgs
nebbiolo1Linux (Ubuntu 20.04.5 LTS)x86_64R Under development (unstable) (2022-10-25 r83175) -- "Unsuffered Consequences" 4462
palomino3Windows Server 2022 Datacenterx64R Under development (unstable) (2022-10-11 r83083 ucrt) -- "Unsuffered Consequences" 4201
merida1macOS 10.14.6 Mojavex86_64R Under development (unstable) (2022-11-13 r83342) -- "Unsuffered Consequences" 4231
Click on any hostname to see more info about the system (e.g. compilers)      (*) as reported by 'uname -p', except on Windows and Mac OS X

BUILD results for ldblock on merida1


To the developers/maintainers of the ldblock package:
- Please allow up to 24 hours (and sometimes 48 hours) for your latest push to git@git.bioconductor.org:packages/ldblock.git to
reflect on this report. See How and When does the builder pull? When will my changes propagate? for more information.
- Make sure to use the following settings in order to reproduce any error or warning you see on this page.

raw results

Package 1017/2154HostnameOS / ArchINSTALLBUILDCHECKBUILD BIN
ldblock 1.29.0  (landing page)
VJ Carey
Snapshot Date: 2022-11-25 14:00:12 -0500 (Fri, 25 Nov 2022)
git_url: https://git.bioconductor.org/packages/ldblock
git_branch: master
git_last_commit: b7524a4
git_last_commit_date: 2022-11-01 11:12:06 -0500 (Tue, 01 Nov 2022)
nebbiolo1Linux (Ubuntu 20.04.5 LTS) / x86_64  OK    OK    OK  UNNEEDED, same version is already published
palomino3Windows Server 2022 Datacenter / x64  OK    OK    OK    OK  UNNEEDED, same version is already published
merida1macOS 10.14.6 Mojave / x86_64  OK    OK    OK    OK  UNNEEDED, same version is already published

Summary

Package: ldblock
Version: 1.29.0
Command: /Library/Frameworks/R.framework/Resources/bin/R CMD build --keep-empty-dirs --no-resave-data ldblock
StartedAt: 2022-11-25 18:51:13 -0500 (Fri, 25 Nov 2022)
EndedAt: 2022-11-25 18:53:14 -0500 (Fri, 25 Nov 2022)
EllapsedTime: 121.1 seconds
RetCode: 0
Status:   OK  
PackageFile: ldblock_1.29.0.tar.gz
PackageFileSize: 40.21 MiB

Command output

##############################################################################
##############################################################################
###
### Running command:
###
###   /Library/Frameworks/R.framework/Resources/bin/R CMD build --keep-empty-dirs --no-resave-data ldblock
###
##############################################################################
##############################################################################


* checking for file ‘ldblock/DESCRIPTION’ ... OK
* preparing ‘ldblock’:
* checking DESCRIPTION meta-information ... OK
* installing the package to process help pages
* building the PDF package manual
* creating vignettes ... OK
* checking for LF line-endings in source and make files and shell scripts
* checking for empty or unneeded directories
* looking to see if a ‘data/datalist’ file should be added
* building ‘ldblock_1.29.0.tar.gz’