Name | Last modified | Size | Description | |
---|---|---|---|---|
Parent Directory | - | |||
install-out.txt | 17-Jul-2024 00:40 | 962 | ||
install-summary.dcf | 17-Jul-2024 00:40 | 271 | ||
buildsrc-out.txt | 17-Jul-2024 00:40 | 840 | ||
buildsrc-summary.dcf | 17-Jul-2024 00:40 | 454 | ||
checksrc-out.txt | 17-Jul-2024 00:40 | 3.2K | ||
checksrc-summary.dcf | 17-Jul-2024 00:40 | 454 | ||
buildbin-out.txt | 17-Jul-2024 00:40 | 1.1K | ||
buildbin-summary.dcf | 17-Jul-2024 00:40 | 514 | ||