Index of /checkResults/devel/bioc-LATEST/lapmix/raw-results/palomino4

[ICO]NameLast modifiedSizeDescription

[DIR]Parent Directory  -  
[TXT]buildbin-out.txt18-Aug-2022 00:06 1.1K 
[   ]buildbin-summary.dcf18-Aug-2022 00:06 526  
[TXT]buildsrc-out.txt18-Aug-2022 00:06 834  
[   ]buildsrc-summary.dcf18-Aug-2022 00:06 448  
[TXT]checksrc-out.txt18-Aug-2022 00:06 3.1K 
[   ]checksrc-summary.dcf18-Aug-2022 00:06 445  
[TXT]install-out.txt18-Aug-2022 00:06 1.8K 
[   ]install-summary.dcf18-Aug-2022 00:06 618