Index of /checkResults/devel/bioc-LATEST/lapmix/raw-results/lconway

[ICO]NameLast modifiedSizeDescription

[DIR]Parent Directory  -  
[TXT]buildbin-out.txt16-Aug-2022 00:07 1.1K 
[   ]buildbin-summary.dcf16-Aug-2022 00:07 523  
[TXT]buildsrc-out.txt16-Aug-2022 00:07 812  
[   ]buildsrc-summary.dcf16-Aug-2022 00:07 423  
[TXT]checksrc-out.txt16-Aug-2022 00:07 3.2K 
[   ]checksrc-summary.dcf16-Aug-2022 00:07 439  
[TXT]install-out.txt16-Aug-2022 00:07 969  
[   ]install-summary.dcf16-Aug-2022 00:07 266