![]() | Name | Last modified | Size | Description |
---|---|---|---|---|
![]() | Parent Directory | - | ||
![]() | buildsrc-out.txt | 29-Sep-2023 00:40 | 796 | |
![]() | buildsrc-summary.dcf | 29-Sep-2023 00:40 | 409 | |
![]() | checksrc-out.txt | 29-Sep-2023 00:40 | 3.1K | |
![]() | checksrc-summary.dcf | 29-Sep-2023 00:40 | 398 | |
![]() | install-out.txt | 29-Sep-2023 00:40 | 937 | |
![]() | install-summary.dcf | 29-Sep-2023 00:40 | 251 | |