Index of /checkResults/devel/bioc-LATEST/keggorthology/raw-results
Name
Last modified
Size
Description
Parent Directory
-
info.dcf
15-May-2022 00:08
279
lconway/
15-May-2022 00:08
-
nebbiolo2/
15-May-2022 00:05
-
palomino4/
15-May-2022 00:06
-