Back to Multiple platform build/check report for BioC 3.15
ABCDEFGHIJ[K]LMNOPQRSTUVWXYZ

This page was generated on 2022-01-21 11:07:50 -0500 (Fri, 21 Jan 2022).

HostnameOSArch (*)R versionInstalled pkgs
nebbiolo1Linux (Ubuntu 20.04.4 LTS)x86_64R Under development (unstable) (2022-01-05 r81451) -- "Unsuffered Consequences" 4163
riesling1Windows Server 2019 Standardx64R Under development (unstable) (2021-11-21 r81221) -- "Unsuffered Consequences" 4058
palomino3Windows Server 2022 Datacenterx64R Under development (unstable) (2021-12-21 r81400 ucrt) -- "Unsuffered Consequences" 4000
merida1macOS 10.14.6 Mojavex86_64R Under development (unstable) (2022-01-05 r81451) -- "Unsuffered Consequences" 4117
Click on any hostname to see more info about the system (e.g. compilers)      (*) as reported by 'uname -p', except on Windows and Mac OS X

CHECK results for karyoploteR on riesling1


To the developers/maintainers of the karyoploteR package:
- Please allow up to 24 hours (and sometimes 48 hours) for your latest push to git@git.bioconductor.org:packages/karyoploteR.git to
reflect on this report. See How and When does the builder pull? When will my changes propagate? here for more information.
- Make sure to use the following settings in order to reproduce any error or warning you see on this page.

raw results

Package 973/2075HostnameOS / ArchINSTALLBUILDCHECKBUILD BIN
karyoploteR 1.21.3  (landing page)
Bernat Gel
Snapshot Date: 2022-01-20 13:55:17 -0500 (Thu, 20 Jan 2022)
git_url: https://git.bioconductor.org/packages/karyoploteR
git_branch: master
git_last_commit: 6fc3dfd
git_last_commit_date: 2022-01-19 05:33:07 -0500 (Wed, 19 Jan 2022)
nebbiolo1Linux (Ubuntu 20.04.4 LTS) / x86_64  OK    OK    OK  UNNEEDED, same version is already published
riesling1Windows Server 2019 Standard / x64  OK    OK    OK    OK  
palomino3Windows Server 2022 Datacenter / x64  OK    OK    OK    OK  NO, package depends on 'regioneR' which is not available
merida1macOS 10.14.6 Mojave / x86_64  OK    OK    OK    OK  UNNEEDED, same version is already published

Summary

Package: karyoploteR
Version: 1.21.3
Command: D:\biocbuild\bbs-3.15-bioc\R\bin\R.exe CMD check --no-multiarch --install=check:karyoploteR.install-out.txt --library=D:\biocbuild\bbs-3.15-bioc\R\library --no-vignettes --timings karyoploteR_1.21.3.tar.gz
StartedAt: 2022-01-20 19:13:14 -0500 (Thu, 20 Jan 2022)
EndedAt: 2022-01-20 19:19:57 -0500 (Thu, 20 Jan 2022)
EllapsedTime: 402.8 seconds
RetCode: 0
Status:   OK  
CheckDir: karyoploteR.Rcheck
Warnings: 0

Command output

##############################################################################
##############################################################################
###
### Running command:
###
###   D:\biocbuild\bbs-3.15-bioc\R\bin\R.exe CMD check --no-multiarch --install=check:karyoploteR.install-out.txt --library=D:\biocbuild\bbs-3.15-bioc\R\library --no-vignettes --timings karyoploteR_1.21.3.tar.gz
###
##############################################################################
##############################################################################


* using log directory 'D:/biocbuild/bbs-3.15-bioc/meat/karyoploteR.Rcheck'
* using R Under development (unstable) (2021-11-21 r81221)
* using platform: x86_64-w64-mingw32 (64-bit)
* using session charset: ISO8859-1
* using option '--no-vignettes'
* checking for file 'karyoploteR/DESCRIPTION' ... OK
* checking extension type ... Package
* this is package 'karyoploteR' version '1.21.3'
* checking package namespace information ... OK
* checking package dependencies ... OK
* checking if this is a source package ... OK
* checking if there is a namespace ... OK
* checking for hidden files and directories ... OK
* checking for portable file names ... OK
* checking whether package 'karyoploteR' can be installed ... OK
* checking installed package size ... OK
* checking package directory ... OK
* checking 'build' directory ... OK
* checking DESCRIPTION meta-information ... NOTE
Packages listed in more than one of Depends, Imports, Suggests, Enhances:
  'regioneR' 'GenomicRanges'
A package should be listed in only one of these fields.
* checking top-level files ... OK
* checking for left-over files ... OK
* checking index information ... OK
* checking package subdirectories ... OK
* checking R files for non-ASCII characters ... OK
* checking R files for syntax errors ... OK
* checking whether the package can be loaded ... OK
* checking whether the package can be loaded with stated dependencies ... OK
* checking whether the package can be unloaded cleanly ... OK
* checking whether the namespace can be loaded with stated dependencies ... OK
* checking whether the namespace can be unloaded cleanly ... OK
* checking dependencies in R code ... OK
* checking S3 generic/method consistency ... OK
* checking replacement functions ... OK
* checking foreign function calls ... OK
* checking R code for possible problems ... OK
* checking Rd files ... OK
* checking Rd metadata ... OK
* checking Rd cross-references ... OK
* checking for missing documentation entries ... OK
* checking for code/documentation mismatches ... OK
* checking Rd \usage sections ... OK
* checking Rd contents ... OK
* checking for unstated dependencies in examples ... OK
* checking R/sysdata.rda ... OK
* checking files in 'vignettes' ... OK
* checking examples ... OK
Examples with CPU (user + system) or elapsed time > 5s
                   user system elapsed
kpPlotDensity     61.50   7.28   68.78
kpPlotGenes       15.02   0.59   15.67
mergeTranscripts  11.87   0.17   12.10
kpPlotHorizon     11.00   0.00   11.04
kpPlotRegions      7.45   0.00    7.55
kpPlotBAMCoverage  5.13   0.41    5.54
* checking for unstated dependencies in 'tests' ... OK
* checking tests ...
  Running 'testthat.R'
 OK
* checking for unstated dependencies in vignettes ... OK
* checking package vignettes in 'inst/doc' ... OK
* checking running R code from vignettes ... SKIPPED
* checking re-building of vignette outputs ... SKIPPED
* checking PDF version of manual ... OK
* DONE

Status: 1 NOTE
See
  'D:/biocbuild/bbs-3.15-bioc/meat/karyoploteR.Rcheck/00check.log'
for details.



Installation output

karyoploteR.Rcheck/00install.out

##############################################################################
##############################################################################
###
### Running command:
###
###   D:\biocbuild\bbs-3.15-bioc\R\bin\R.exe CMD INSTALL karyoploteR
###
##############################################################################
##############################################################################


* installing to library 'D:/biocbuild/bbs-3.15-bioc/R/library'
* installing *source* package 'karyoploteR' ...
** using staged installation
** R
** inst
** byte-compile and prepare package for lazy loading
** help
*** installing help indices
  converting help for package 'karyoploteR'
    finding HTML links ... done
    addGeneNames                            html  
    autotrack                               html  
    colByCategory                           html  
    colByChr                                html  
    colByRegion                             html  
    colByValue                              html  
    darker                                  html  
    filterParams                            html  
    findIntersections                       html  
    getChromosomeNamesBoundingBox           html  
    getColorSchemas                         html  
    getCytobandColors                       html  
    getCytobands                            html  
    finding level-2 HTML links ... done

    getDataPanelBoundingBox                 html  
    getDefaultPlotParams                    html  
    getMainTitleBoundingBox                 html  
    getTextSize                             html  
    getVariantsColors                       html  
    horizonColors                           html  
    is.color                                html  
    kpAbline                                html  
    kpAddBaseNumbers                        html  
    kpAddChromosomeNames                    html  
    kpAddChromosomeSeparators               html  
    kpAddColorRect                          html  
    kpAddCytobandLabels                     html  
    kpAddCytobands                          html  
    kpAddCytobandsAsLine                    html  
    kpAddLabels                             html  
    kpAddMainTitle                          html  
    kpArea                                  html  
    kpArrows                                html  
    kpAxis                                  html  
    kpBars                                  html  
    kpDataBackground                        html  
    kpHeatmap                               html  
    kpLines                                 html  
    kpPlotBAMCoverage                       html  
    kpPlotBAMDensity                        html  
    kpPlotBigWig                            html  
    kpPlotCoverage                          html  
    kpPlotDensity                           html  
    kpPlotGenes                             html  
    kpPlotHorizon                           html  
    kpPlotLinks                             html  
    kpPlotLoess                             html  
    kpPlotManhattan                         html  
    kpPlotMarkers                           html  
    kpPlotNames                             html  
    kpPlotRainfall                          html  
    kpPlotRegions                           html  
    kpPlotRibbon                            html  
    kpPlotTranscripts                       html  
    kpPoints                                html  
    kpPolygon                               html  
    kpRect                                  html  
    kpSegments                              html  
    kpText                                  html  
    lighter                                 html  
    makeGenesDataFromTxDb                   html  
    mergeTranscripts                        html  
    plotDefaultPlotParams                   html  
    plotKaryotype                           html  
    plotPalettes                            html  
    prepareParameters2                      html  
    prepareParameters4                      html  
    processClipping                         html  
    transparent                             html  
** building package indices
** installing vignettes
** testing if installed package can be loaded from temporary location
** testing if installed package can be loaded from final location
** testing if installed package keeps a record of temporary installation path
* DONE (karyoploteR)
Making 'packages.html' ... done

Tests output

karyoploteR.Rcheck/tests/testthat.Rout


R Under development (unstable) (2021-11-21 r81221) -- "Unsuffered Consequences"
Copyright (C) 2021 The R Foundation for Statistical Computing
Platform: x86_64-w64-mingw32/x64 (64-bit)

R is free software and comes with ABSOLUTELY NO WARRANTY.
You are welcome to redistribute it under certain conditions.
Type 'license()' or 'licence()' for distribution details.

R is a collaborative project with many contributors.
Type 'contributors()' for more information and
'citation()' on how to cite R or R packages in publications.

Type 'demo()' for some demos, 'help()' for on-line help, or
'help.start()' for an HTML browser interface to help.
Type 'q()' to quit R.

> library(testthat)
> library(karyoploteR)
Loading required package: regioneR
Loading required package: GenomicRanges
Loading required package: stats4
Loading required package: BiocGenerics

Attaching package: 'BiocGenerics'

The following objects are masked from 'package:stats':

    IQR, mad, sd, var, xtabs

The following objects are masked from 'package:base':

    Filter, Find, Map, Position, Reduce, anyDuplicated, append,
    as.data.frame, basename, cbind, colnames, dirname, do.call,
    duplicated, eval, evalq, get, grep, grepl, intersect, is.unsorted,
    lapply, mapply, match, mget, order, paste, pmax, pmax.int, pmin,
    pmin.int, rank, rbind, rownames, sapply, setdiff, sort, table,
    tapply, union, unique, unsplit, which.max, which.min

Loading required package: S4Vectors

Attaching package: 'S4Vectors'

The following objects are masked from 'package:base':

    I, expand.grid, unname

Loading required package: IRanges

Attaching package: 'IRanges'

The following object is masked from 'package:grDevices':

    windows

Loading required package: GenomeInfoDb
> 
> test_check("karyoploteR")
== Skipped tests ===============================================================
* empty test (3)

[ FAIL 0 | WARN 0 | SKIP 3 | PASS 181 ]
> 
> proc.time()
   user  system elapsed 
  12.54    1.04   13.59 

Example timings

karyoploteR.Rcheck/karyoploteR-Ex.timings

nameusersystemelapsed
addGeneNames1.420.031.45
autotrack000
colByCategory000
colByChr0.290.030.33
colByRegion0.750.140.89
colByValue0.150.000.14
darker000
filterParams000
findIntersections0.070.000.08
getChromosomeNamesBoundingBox0.050.000.04
getColorSchemas000
getCytobandColors000
getCytobands000
getDataPanelBoundingBox0.030.000.03
getDefaultPlotParams0.030.020.05
getMainTitleBoundingBox0.020.010.03
getTextSize0.050.000.05
getVariantsColors000
horizonColors000
is.color000
kpAbline2.310.913.22
kpAddBaseNumbers0.220.040.26
kpAddChromosomeNames0.030.000.03
kpAddChromosomeSeparators0.280.040.32
kpAddColorRect0.090.000.09
kpAddCytobandLabels0.190.030.22
kpAddCytobands0.030.000.03
kpAddCytobandsAsLine0.030.010.05
kpAddLabels0.270.000.26
kpAddMainTitle0.010.000.02
kpArea0.220.000.22
kpArrows0.330.020.34
kpAxis0.170.000.17
kpBars0.110.000.11
kpDataBackground0.140.020.15
kpHeatmap0.080.000.08
kpLines0.170.000.17
kpPlotBAMCoverage5.130.415.54
kpPlotBAMDensity1.340.041.39
kpPlotBigWig000
kpPlotCoverage0.250.020.26
kpPlotDensity61.50 7.2868.78
kpPlotGenes15.02 0.5915.67
kpPlotHorizon11.00 0.0011.04
kpPlotLinks0.650.000.65
kpPlotLoess0.050.000.05
kpPlotManhattan4.420.134.56
kpPlotMarkers1.190.011.20
kpPlotNames0.110.000.11
kpPlotRainfall0.660.000.66
kpPlotRegions7.450.007.55
kpPlotRibbon0.110.000.11
kpPlotTranscripts4.360.034.39
kpPoints0.20.00.2
kpPolygon0.140.000.14
kpRect0.470.000.47
kpSegments0.370.000.37
kpText0.220.000.22
lighter000
makeGenesDataFromTxDb3.130.103.22
mergeTranscripts11.87 0.1712.10
plotDefaultPlotParams0.180.000.17
plotKaryotype0.680.080.76
plotPalettes0.020.010.03
prepareParameters20.030.000.04
prepareParameters40.050.000.04
processClipping0.030.000.03
transparent0.010.000.02