Back to Multiple platform build/check report for BioC 3.15
ABCDEFGHIJ[K]LMNOPQRSTUVWXYZ

This page was generated on 2022-01-20 11:07:35 -0500 (Thu, 20 Jan 2022).

HostnameOSArch (*)R versionInstalled pkgs
nebbiolo1Linux (Ubuntu 20.04.4 LTS)x86_64R Under development (unstable) (2022-01-05 r81451) -- "Unsuffered Consequences" 4162
riesling1Windows Server 2019 Standardx64R Under development (unstable) (2021-11-21 r81221) -- "Unsuffered Consequences" 4057
palomino3Windows Server 2022 Datacenterx64R Under development (unstable) (2021-12-21 r81400 ucrt) -- "Unsuffered Consequences" 3999
merida1macOS 10.14.6 Mojavex86_64R Under development (unstable) (2022-01-05 r81451) -- "Unsuffered Consequences" 4116
Click on any hostname to see more info about the system (e.g. compilers)      (*) as reported by 'uname -p', except on Windows and Mac OS X

BUILD results for karyoploteR on riesling1


To the developers/maintainers of the karyoploteR package:
- Please allow up to 24 hours (and sometimes 48 hours) for your latest push to git@git.bioconductor.org:packages/karyoploteR.git to
reflect on this report. See How and When does the builder pull? When will my changes propagate? here for more information.
- Make sure to use the following settings in order to reproduce any error or warning you see on this page.

raw results

Package 973/2074HostnameOS / ArchINSTALLBUILDCHECKBUILD BIN
karyoploteR 1.21.3  (landing page)
Bernat Gel
Snapshot Date: 2022-01-19 13:55:26 -0500 (Wed, 19 Jan 2022)
git_url: https://git.bioconductor.org/packages/karyoploteR
git_branch: master
git_last_commit: 6fc3dfd
git_last_commit_date: 2022-01-19 05:33:07 -0500 (Wed, 19 Jan 2022)
nebbiolo1Linux (Ubuntu 20.04.4 LTS) / x86_64  OK    OK    OK  YES
riesling1Windows Server 2019 Standard / x64  OK    OK    OK    OK  
palomino3Windows Server 2022 Datacenter / x64  OK    OK    OK    OK  NO, package depends on 'regioneR' which is not available
merida1macOS 10.14.6 Mojave / x86_64  OK    OK    OK    OK  YES

Summary

Package: karyoploteR
Version: 1.21.3
Command: chmod a+r karyoploteR -R && D:\biocbuild\bbs-3.15-bioc\R\bin\R.exe CMD build --keep-empty-dirs --no-resave-data karyoploteR
StartedAt: 2022-01-19 17:06:23 -0500 (Wed, 19 Jan 2022)
EndedAt: 2022-01-19 17:07:48 -0500 (Wed, 19 Jan 2022)
EllapsedTime: 84.5 seconds
RetCode: 0
Status:   OK  
PackageFile: karyoploteR_1.21.3.tar.gz
PackageFileSize: 846.2 KiB

Command output

##############################################################################
##############################################################################
###
### Running command:
###
###   chmod a+r karyoploteR -R && D:\biocbuild\bbs-3.15-bioc\R\bin\R.exe CMD build --keep-empty-dirs --no-resave-data karyoploteR
###
##############################################################################
##############################################################################


* checking for file 'karyoploteR/DESCRIPTION' ... OK
* preparing 'karyoploteR':
* checking DESCRIPTION meta-information ... OK
* installing the package to build vignettes
* creating vignettes ... OK
* checking for LF line-endings in source and make files and shell scripts
* checking for empty or unneeded directories
* looking to see if a 'data/datalist' file should be added
* building 'karyoploteR_1.21.3.tar.gz'