Index of /checkResults/devel/bioc-LATEST/iteremoval/raw-results/palomino4

[ICO]NameLast modifiedSizeDescription

[DIR]Parent Directory  -  
[TXT]buildsrc-out.txt01-Jul-2022 00:06 1.0K 
[   ]buildsrc-summary.dcf01-Jul-2022 00:06 377  
[TXT]install-out.txt01-Jul-2022 00:06 2.4K 
[   ]install-summary.dcf01-Jul-2022 00:06 655