Index of /checkResults/devel/bioc-LATEST/iteremoval/raw-results/nebbiolo2

[ICO]NameLast modifiedSizeDescription

[DIR]Parent Directory  -  
[TXT]buildsrc-out.txt02-Jul-2022 00:05 1.0K 
[   ]buildsrc-summary.dcf02-Jul-2022 00:05 339  
[TXT]install-out.txt02-Jul-2022 00:05 1.5K 
[   ]install-summary.dcf02-Jul-2022 00:05 265