Index of /checkResults/devel/bioc-LATEST/iteremoval/raw-results/lconway

[ICO]NameLast modifiedSizeDescription

[DIR]Parent Directory  -  
[   ]install-summary.dcf18-Aug-2022 00:08 275  
[   ]buildsrc-summary.dcf18-Aug-2022 00:08 349  
[TXT]buildsrc-out.txt18-Aug-2022 00:08 1.0K 
[TXT]install-out.txt18-Aug-2022 00:08 1.6K