Index of /checkResults/devel/bioc-LATEST/iteremoval/raw-results/lconway

[ICO]NameLast modifiedSizeDescription

[DIR]Parent Directory  -  
[TXT]buildsrc-out.txt01-Jul-2022 00:08 1.0K 
[   ]buildsrc-summary.dcf01-Jul-2022 00:08 349  
[TXT]install-out.txt01-Jul-2022 00:08 1.6K 
[   ]install-summary.dcf01-Jul-2022 00:08 275