Index of /checkResults/devel/bioc-LATEST/iteremoval/raw-results
Name
Last modified
Size
Description
Parent Directory
-
palomino4/
17-May-2022 00:06
-
nebbiolo2/
17-May-2022 00:05
-
lconway/
17-May-2022 00:07
-
info.dcf
17-May-2022 00:07
279