Back to Multiple platform build/check report for BioC 3.15
ABCDEFGH[I]JKLMNOPQRSTUVWXYZ

This page was generated on 2022-01-21 11:07:50 -0500 (Fri, 21 Jan 2022).

HostnameOSArch (*)R versionInstalled pkgs
nebbiolo1Linux (Ubuntu 20.04.4 LTS)x86_64R Under development (unstable) (2022-01-05 r81451) -- "Unsuffered Consequences" 4163
riesling1Windows Server 2019 Standardx64R Under development (unstable) (2021-11-21 r81221) -- "Unsuffered Consequences" 4058
palomino3Windows Server 2022 Datacenterx64R Under development (unstable) (2021-12-21 r81400 ucrt) -- "Unsuffered Consequences" 4000
merida1macOS 10.14.6 Mojavex86_64R Under development (unstable) (2022-01-05 r81451) -- "Unsuffered Consequences" 4117
Click on any hostname to see more info about the system (e.g. compilers)      (*) as reported by 'uname -p', except on Windows and Mac OS X

BUILD BIN results for isomiRs on riesling1


To the developers/maintainers of the isomiRs package:
- Please allow up to 24 hours (and sometimes 48 hours) for your latest push to git@git.bioconductor.org:packages/isomiRs.git to
reflect on this report. See How and When does the builder pull? When will my changes propagate? here for more information.
- Make sure to use the following settings in order to reproduce any error or warning you see on this page.

raw results

Package 964/2075HostnameOS / ArchINSTALLBUILDCHECKBUILD BIN
isomiRs 1.23.1  (landing page)
Lorena Pantano
Snapshot Date: 2022-01-20 13:55:17 -0500 (Thu, 20 Jan 2022)
git_url: https://git.bioconductor.org/packages/isomiRs
git_branch: master
git_last_commit: 1e62c9a
git_last_commit_date: 2021-11-21 00:21:43 -0500 (Sun, 21 Nov 2021)
nebbiolo1Linux (Ubuntu 20.04.4 LTS) / x86_64  OK    OK    OK  UNNEEDED, same version is already published
riesling1Windows Server 2019 Standard / x64  OK    OK    OK    OK  
palomino3Windows Server 2022 Datacenter / x64  OK    OK    OK    OK  NO, package depends on 'SummarizedExperiment' which is not available
merida1macOS 10.14.6 Mojave / x86_64  OK    OK    OK    OK  UNNEEDED, same version is already published

Summary

Package: isomiRs
Version: 1.23.1
Command: rm -rf isomiRs.buildbin-libdir && mkdir isomiRs.buildbin-libdir && D:\biocbuild\bbs-3.15-bioc\R\bin\R.exe CMD INSTALL --build --library=isomiRs.buildbin-libdir isomiRs_1.23.1.tar.gz
StartedAt: 2022-01-20 21:00:23 -0500 (Thu, 20 Jan 2022)
EndedAt: 2022-01-20 21:01:29 -0500 (Thu, 20 Jan 2022)
EllapsedTime: 65.5 seconds
RetCode: 0
Status:   OK  
PackageFile: isomiRs_1.23.1.zip
PackageFileSize: 2.132 MiB

Command output

##############################################################################
##############################################################################
###
### Running command:
###
###   rm -rf isomiRs.buildbin-libdir && mkdir isomiRs.buildbin-libdir && D:\biocbuild\bbs-3.15-bioc\R\bin\R.exe CMD INSTALL --build --library=isomiRs.buildbin-libdir isomiRs_1.23.1.tar.gz
###
##############################################################################
##############################################################################


* installing *source* package 'isomiRs' ...
** using staged installation
** R
** data
*** moving datasets to lazyload DB
Registered S3 method overwritten by 'GGally':
  method from   
  +.gg   ggplot2
** inst
** byte-compile and prepare package for lazy loading
** help
*** installing help indices
  converting help for package 'isomiRs'
    finding HTML links ... done
    IsomirDataSeq                           html  
    IsomirDataSeqFromFiles                  html  
    IsomirDataSeqFromMirtop                 html  
    IsomirDataSeqFromRawData                html  
    counts                                  html  
    dat286.long                             html  
    design                                  html  
    ego                                     html  
    findTargets                             html  
    gene_ex_rse                             html  
    isoAnnotate                             html  
    isoCounts                               html  
    isoDE                                   html  
    isoNetwork                              html  
    isoNorm                                 html  
    isoPLSDA                                html  
    isoPLSDAplot                            html  
    isoPlot                                 html  
    isoPlotNet                              html  
    isoPlotPosition                         html  
    isoSelect                               html  
    isoTop                                  html  
    isomiRs-package                         html  
    ma_ex                                   html  
    mirData                                 html  
    mirTritation                            html  
    mirna2targetscan                        html  
    mirna_ex_rse                            html  
    updateIsomirDataSeq                     html  
** building package indices
** installing vignettes
** testing if installed package can be loaded from temporary location
** testing if installed package can be loaded from final location
** testing if installed package keeps a record of temporary installation path
* MD5 sums
packaged installation of 'isomiRs' as isomiRs_1.23.1.zip
* DONE (isomiRs)