![]() | Name | Last modified | Size | Description |
---|---|---|---|---|
![]() | Parent Directory | - | ||
![]() | buildbin-out.txt | 25-Jun-2022 00:06 | 1.3K | |
![]() | buildbin-summary.dcf | 25-Jun-2022 00:06 | 533 | |
![]() | buildsrc-out.txt | 25-Jun-2022 00:06 | 839 | |
![]() | buildsrc-summary.dcf | 25-Jun-2022 00:06 | 453 | |
![]() | checksrc-out.txt | 25-Jun-2022 00:06 | 5.0K | |
![]() | checksrc-summary.dcf | 25-Jun-2022 00:06 | 450 | |
![]() | install-out.txt | 25-Jun-2022 00:06 | 1.9K | |
![]() | install-summary.dcf | 25-Jun-2022 00:06 | 628 | |