Name | Last modified | Size | Description | |
---|---|---|---|---|
Parent Directory | - | |||
checksrc-out.txt | 17-Apr-2024 00:36 | 5.8K | ||
checksrc-summary.dcf | 17-Apr-2024 00:36 | 414 | ||
install-out.txt | 02-May-2024 00:35 | 642 | ||
install-summary.dcf | 02-May-2024 00:35 | 261 | ||
buildsrc-summary.dcf | 02-May-2024 00:35 | 332 | ||
buildsrc-out.txt | 02-May-2024 00:35 | 881 | ||