![]() | Name | Last modified | Size | Description |
---|---|---|---|---|
![]() | Parent Directory | - | ||
![]() | install-out.txt | 04-Oct-2023 00:39 | 1.1K | |
![]() | install-summary.dcf | 04-Oct-2023 00:39 | 269 | |
![]() | buildsrc-out.txt | 04-Oct-2023 00:39 | 816 | |
![]() | buildsrc-summary.dcf | 04-Oct-2023 00:39 | 428 | |
![]() | checksrc-summary.dcf | 04-Oct-2023 00:39 | 444 | |
![]() | checksrc-out.txt | 04-Oct-2023 00:39 | 5.3K | |
![]() | buildbin-out.txt | 04-Oct-2023 00:39 | 1.3K | |
![]() | buildbin-summary.dcf | 04-Oct-2023 00:39 | 530 | |