Name | Last modified | Size | Description | |
---|---|---|---|---|
Parent Directory | - | |||
buildsrc-out.txt | 30-Apr-2024 00:40 | 907 | ||
buildsrc-summary.dcf | 30-Apr-2024 00:40 | 343 | ||
checksrc-out.txt | 19-Apr-2024 00:45 | 6.0K | ||
checksrc-summary.dcf | 19-Apr-2024 00:45 | 447 | ||
install-out.txt | 30-Apr-2024 00:40 | 675 | ||
install-summary.dcf | 30-Apr-2024 00:40 | 272 | ||